BEGIN:VCALENDAR
VERSION:2.0
PRODID:-//eventon.com NONSGML v1.0//EN
CALSCALE:GREGORIAN
METHOD:PUBLISH
BEGIN:VEVENT
UID:69e4caebdf1de
DTSTAMP:20260419T123035Z
DTSTART:20240314T170000Z
DTEND:20240314T210000Z
LOCATION:La maison de la Conversation La maison de la Conversation
SUMMARY:Lack of Lock & Top  Rock !
DESCRIPTION:Lack of lock et top rock est une saison de seven to smoke dédi
 ée à la nouvelle génération! Les danseurs s’affrontent chaque mois\, 
  sous forme de seven to smoke. Les points marqués sont retranscrits sur le
  classement de la saison\,  jusqu à la finale A Chaque édition\,  de nouv
 eaux danseurs[..]\nhttps://maisondelaconversation.org/events/lack-of-lock-t
 op-rock-2/
URL:https://maisondelaconversation.org/events/lack-of-lock-top-rock-2/
END:VEVENT
END:VCALENDAR