BEGIN:VCALENDAR
VERSION:2.0
PRODID:-//eventon.com NONSGML v1.0//EN
CALSCALE:GREGORIAN
METHOD:PUBLISH
BEGIN:VEVENT
UID:69ec3ff3a6971
DTSTAMP:20260425T041547Z
DTSTART:20240208T180000Z
DTEND:20240208T210000Z
LOCATION:La maison de la Conversation La maison de la Conversation
SUMMARY:Workshop - Oriental Fusion
DESCRIPTION:? DÃ‰COUVREZ L&#8217;ORIENTAL FUSION AVEC LALA MOON ! ? âœ¨ PrÃ
 ªt Ã  vivre une expÃ©rience de danse inoubliable ? Rejoignez-nous pour un s
 tage de danse Oriental Fusion Ã  partir du 17 janvier 18h Ã  22h au studio 
 de danse adidas Ã  la Maison de la Conversation. ? Laissez-vous emporter da
 ns[..]\nhttps://maisondelaconversation.org/events/workshop-oriental-fusion/
URL:https://maisondelaconversation.org/events/workshop-oriental-fusion/
END:VEVENT
END:VCALENDAR