BEGIN:VCALENDAR
VERSION:2.0
PRODID:-//eventon.com NONSGML v1.0//EN
CALSCALE:GREGORIAN
METHOD:PUBLISH
BEGIN:VEVENT
UID:69e4e0e92efb8
DTSTAMP:20260419T140425Z
DTSTART:20240123T180000Z
DTEND:20240123T200000Z
LOCATION:maison de la Conversation 12 Rue Maurice Grimaud\, Paris\, 75018\, FR
SUMMARY:Ciné débat #9 : la dernière édition - Au clair de la rue
DESCRIPTION:Nous finissons ce cycle en beauté\,  avec un documentaire sur 
 la chorale de l’association La Cloche : au clair de la rue. Voici notre 9
 ᵉ et dernier ciné-débat ! Nous finissons ce cycle en beauté\,  avec un
  documentaire sur la chorale de l’association La Cloche\,  avec qui nous 
 proposons ces[..]\nhttps://maisondelaconversation.org/events/cine-debat-9-l
 a-derniere-edition-au-clair-de-rue/
URL:https://maisondelaconversation.org/events/cine-debat-9-la-derniere-edition-au-clair-de-rue/
END:VEVENT
END:VCALENDAR