BEGIN:VCALENDAR
VERSION:2.0
PRODID:-//eventon.com NONSGML v1.0//EN
CALSCALE:GREGORIAN
METHOD:PUBLISH
BEGIN:VEVENT
UID:69e88985c5377
DTSTAMP:20260422T084037Z
DTSTART:20231105T141500Z
DTEND:20231105T171500Z
LOCATION:La maison de la Conversation La maison de la Conversation
SUMMARY:Regards en mouvement - 48h du média\,  l’exposition
DESCRIPTION:♿ Les 8 et 9 juillet 2023\,  Championnats du monde de para at
 hlétisme sont accueillis au Stade Charléty à Paris. ? Des jeunes de la f
 ormation les “48h du média”\,  formation courte et gratuite proposée 
 par la maison de la Conversation en partenariat avec l’EMI\,  ont pu suiv
 re la compétition.Ils[..]\nhttps://maisondelaconversation.org/events/regar
 ds-en-mouvement-48h-du-media-lexposition/
URL:https://maisondelaconversation.org/events/regards-en-mouvement-48h-du-media-lexposition/
END:VEVENT
END:VCALENDAR