BEGIN:VCALENDAR
VERSION:2.0
PRODID:-//eventon.com NONSGML v1.0//EN
CALSCALE:GREGORIAN
METHOD:PUBLISH
BEGIN:VEVENT
UID:69eac84884ca4
DTSTAMP:20260424T013256Z
DTSTART:20230909T140000Z
DTEND:20230909T210000Z
LOCATION:
SUMMARY:OverbookÃ©es Festival ?
DESCRIPTION:AprÃ¨s prÃ¨s de 30 rencontres OverbookÃ©es ayant rÃ©uni plus de
  300 personnes autour dâ€™une vingtaine dâ€™auteur.ice.s engagÃ©.e.s\,  lâ€
 ™heure est venue de se retrouver pour notre premier mini festival ! ? Que c
 e soit sur Instagram ou in real life\,  on aime Ã  parler de livres Â« qui 
 renversent le monde[..]\nhttps://maisondelaconversation.org/events/overbook
 ees-festival-%f0%9f%93%9a/
URL:https://maisondelaconversation.org/events/overbookees-festival-%f0%9f%93%9a/
END:VEVENT
END:VCALENDAR