BEGIN:VCALENDAR
VERSION:2.0
PRODID:-//eventon.com NONSGML v1.0//EN
CALSCALE:GREGORIAN
METHOD:PUBLISH
BEGIN:VEVENT
UID:69eb332bdc62c
DTSTAMP:20260424T090859Z
DTSTART:20230709T113000Z
DTEND:20230709T180000Z
LOCATION:La maison de la Conversation La maison de la Conversation
SUMMARY:Les 48h du MĂ©dia
DESCRIPTION:Le 8 et 9 juillet\,  la maison de la Conversation vous invite Ă
   la deuxiĂ¨me Ă©dition sur le thĂ¨me du handisport ! Nous aurons la chance
  dâ€™aller reporter les mondiaux de Para AthlĂ©tisme le samedi 8 juillet au
  stade CharlĂ©ty. Le dimanche\,  nous nous retrouverons tous ensemble pour 
 finaliser les[..]\nhttps://maisondelaconversation.org/events/les-48h-du-med
 ia-2/
URL:https://maisondelaconversation.org/events/les-48h-du-media-2/
END:VEVENT
END:VCALENDAR