BEGIN:VCALENDAR
VERSION:2.0
PRODID:-//eventon.com NONSGML v1.0//EN
CALSCALE:GREGORIAN
METHOD:PUBLISH
BEGIN:VEVENT
UID:69e808908636a
DTSTAMP:20260421T233024Z
DTSTART:20230610T103000Z
DTEND:20230610T183000Z
LOCATION:
SUMMARY:Handi Cap Culture
DESCRIPTION:Handi Cap Culture est la journée d’inclusion du handicap aux
  métiers de la culture ! ?Qu’est-ce que c’est ? Tout au long de la jou
 rnée\,  des acteurs du handicap vous retrouverons pour vous donner tous le
 s conseils et informations dont vous avez besoin ! Le programme : ? 10h :[.
 .]\nhttps://maisondelaconversation.org/events/handi-cap-culture/
URL:https://maisondelaconversation.org/events/handi-cap-culture/
END:VEVENT
END:VCALENDAR