BEGIN:VCALENDAR
VERSION:2.0
PRODID:-//eventon.com NONSGML v1.0//EN
CALSCALE:GREGORIAN
METHOD:PUBLISH
BEGIN:VEVENT
UID:69eb18f58c069
DTSTAMP:20260424T071709Z
DTSTART:20230521T133000Z
DTEND:20230521T173000Z
LOCATION:La maison de la Conversation La maison de la Conversation
SUMMARY:Books'n'brunch #3 ?
DESCRIPTION:Venez passer un moment convivial qui permet de faire des nouvel
 les rencontres\,  d’échanger sur vos lectures et vos découvertes pépit
 es autour d’un délicieux repas du dimanche. Le club est ouvert à tous t
 ypes de lecteurs et de lectures\,  des plus aguerris à ceux qui ne lisent 
 quasiment jamais\,  en passant[..]\nhttps://maisondelaconversation.org/even
 ts/booksnbrunch-3-%f0%9f%a5%9e/
URL:https://maisondelaconversation.org/events/booksnbrunch-3-%f0%9f%a5%9e/
END:VEVENT
END:VCALENDAR