BEGIN:VCALENDAR
VERSION:2.0
PRODID:-//eventon.com NONSGML v1.0//EN
CALSCALE:GREGORIAN
METHOD:PUBLISH
BEGIN:VEVENT
UID:69eaf954d5634
DTSTAMP:20260424T050212Z
DTSTART:20230225T150000Z
DTEND:20230225T170000Z
LOCATION:La maison de la Conversation La maison de la Conversation
SUMMARY:Les ateliers d'écriture en français - NIVEAU B1 B2
DESCRIPTION:Tu as un niveau B1\,  B2 en français et tu as envie de progres
 ser dans l’écriture du français. Tu as plein d’histoires dans ta têt
 e\,  vécues ou inventées que tu voudrais raconter avec ton propre style. 
 Tu as envie d’écrire toutes sortes de textes : des mini histoires\,  des
  poèmes\, [..]\nhttps://maisondelaconversation.org/events/les-ateliers-dec
 riture-en-francais-niveau-b1-b2-8/
URL:https://maisondelaconversation.org/events/les-ateliers-decriture-en-francais-niveau-b1-b2-8/
END:VEVENT
END:VCALENDAR