BEGIN:VCALENDAR
VERSION:2.0
PRODID:-//eventon.com NONSGML v1.0//EN
CALSCALE:GREGORIAN
METHOD:PUBLISH
BEGIN:VEVENT
UID:69e8c7bb5e068
DTSTAMP:20260422T130603Z
DTSTART:20230205T100000Z
DTEND:20230205T120000Z
LOCATION:La maison de la Conversation La maison de la Conversation
SUMMARY:Rêves d'avenir
DESCRIPTION:Rêves d&#8217;avenir Ce programme a pour but de faire découvr
 ir différents métiers en rapport avec le sport aux jeunes filles et aux j
 eunes garçons de notre communauté. Ces rencontres avec des professionnels
  permettent de prévenir le décrochage scolaire auprès de jeunes qui ont 
 souvent du mal à percevoir d&#8217;éventuelles perspectives[..]\nhttps://
 maisondelaconversation.org/events/reves-davenir-2/
URL:https://maisondelaconversation.org/events/reves-davenir-2/
END:VEVENT
END:VCALENDAR