BEGIN:VCALENDAR
VERSION:2.0
PRODID:-//eventon.com NONSGML v1.0//EN
CALSCALE:GREGORIAN
METHOD:PUBLISH
BEGIN:VEVENT
UID:69eb7ec3f01ab
DTSTAMP:20260424T143131Z
DTSTART:20260503T090000Z
DTEND:20260503T130000Z
LOCATION:maison de la Conversation 10 rue Maurice Grimaud\,  75018 18th arrondissement of Paris\,  France
SUMMARY:Brunch & Papote - Le Char Bonheur
DESCRIPTION:Quand le Char Bonheur rencontre la maison de la Conversation\, 
  lâ€™esprit de partage sâ€™invite Ã  table. Plus quâ€™un simple repas\,  ce
  brunch est une invitation Ã  rÃ©apprendre lâ€™art de la discussion. Deux p
 rojets\,  une mission commune : crÃ©er du lien\,  Ã©changer et savourer lâ€
 ™instant prÃ©sent\,  ensemble. Le menu BrunchUne assiette[..]\nhttps://mais
 ondelaconversation.org/events/brunch-papote-le-char-bonheur/
URL:https://maisondelaconversation.org/events/brunch-papote-le-char-bonheur/
END:VEVENT
END:VCALENDAR