BEGIN:VCALENDAR
VERSION:2.0
PRODID:-//eventon.com NONSGML v1.0//EN
CALSCALE:GREGORIAN
METHOD:PUBLISH
BEGIN:VEVENT
UID:69eb7bcad8150
DTSTAMP:20260424T141850Z
DTSTART:20260502T123000Z
DTEND:20260502T140000Z
LOCATION:maison de la Conversation 10 rue Maurice Grimaud\,  75018 18th arrondissement of Paris\,  France
SUMMARY:Rencontres Intergénérationnelles — autour de la Danse
DESCRIPTION:💫 Rencontres Intergénérationnelles autour de la Danse Jeun
 es (à partir de 16 ans) et seniors (50+) se retrouvent pour un atelier où
  la danse devient un terrain de jeu\,  de partage et de transmission ! Au p
 rogramme : découverte d’un style de danse différent à chaque session\,
   expression de soi\, [..]\nhttps://maisondelaconversation.org/events/renco
 ntres-intergenerationnelles-autour-de-la-danse-7/
URL:https://maisondelaconversation.org/events/rencontres-intergenerationnelles-autour-de-la-danse-7/
END:VEVENT
END:VCALENDAR