BEGIN:VCALENDAR
VERSION:2.0
PRODID:-//eventon.com NONSGML v1.0//EN
CALSCALE:GREGORIAN
METHOD:PUBLISH
BEGIN:VEVENT
UID:69eb7e2f023a1
DTSTAMP:20260424T142903Z
DTSTART:20260501T120000Z
DTEND:20260503T160000Z
LOCATION:maison de la Conversation 10 rue Maurice Grimaud\,  75018 18th arrondissement of Paris\,  France
SUMMARY:Pastel Camp 2026
DESCRIPTION:🎨 Pastel Camp 2026 : Ton Immersion au Cœur de l&#8217;Indus
 trie MusicaleTu es passionné par la musique et la culture ? Tu rêves de c
 omprendre l&#8217;envers du décor et de briser les barrières d&#8217;un m
 onde souvent perçu comme inaccessible ? Après avoir réuni plus de 550 pa
 rticipants lors de ses[..]\nhttps://maisondelaconversation.org/events/paste
 l-camp-2026/
URL:https://maisondelaconversation.org/events/pastel-camp-2026/
END:VEVENT
END:VCALENDAR