BEGIN:VCALENDAR
VERSION:2.0
PRODID:-//eventon.com NONSGML v1.0//EN
CALSCALE:GREGORIAN
METHOD:PUBLISH
BEGIN:VEVENT
UID:69e88a595e8c6
DTSTAMP:20260422T084409Z
DTSTART:20250716T140000Z
DTEND:20250716T173000Z
LOCATION:maison de la Conversation 10 rue Maurice Grimaud\,  75018 18th arrondissement of Paris\,  France
SUMMARY:Conversations de quartier
DESCRIPTION:Conversations de quartier est une invitation à (re)découvrir 
 son quartier\,  ses voisins et ses associations. La maison de la Conversati
 on vous propose des ateliers ludiques et engagés lors du Festival des atel
 iers de rue\,  organisé par Etoiles du Sol ! Au programme : théâtre\,  m
 usique\,  ateliers artistiques &#8230; L&#8217;occasion parfaite[..]\nhttps
 ://maisondelaconversation.org/events/conversations-de-quartier-2/
URL:https://maisondelaconversation.org/events/conversations-de-quartier-2/
END:VEVENT
END:VCALENDAR