BEGIN:VCALENDAR
VERSION:2.0
PRODID:-//eventon.com NONSGML v1.0//EN
CALSCALE:GREGORIAN
METHOD:PUBLISH
BEGIN:VEVENT
UID:69e8253376640
DTSTAMP:20260422T013235Z
DTSTART:20250705T110000Z
DTEND:20250705T150000Z
LOCATION:maison de la Conversation 10 rue Maurice Grimaud\,  75018 18th arrondissement of Paris\,  France
SUMMARY:Atelier Créatif Lutte & Liberté
DESCRIPTION:Atelier de création participatif afin de lutter pour la libér
 ation du peuple palestinien.Viens t’exprimer sur papier avec différents 
 médiums et créer une œuvre à taille humaine mettant en lumière l’esp
 oir d’un monde meilleur.Le but ? Créer sur un format A5 ton expression d
 e liberté\,  nous la donner et en faire[..]\nhttps://maisondelaconversatio
 n.org/events/atelier-creatif-lutte-liberte-4-2/
URL:https://maisondelaconversation.org/events/atelier-creatif-lutte-liberte-4-2/
END:VEVENT
END:VCALENDAR