BEGIN:VCALENDAR
VERSION:2.0
PRODID:-//eventon.com NONSGML v1.0//EN
CALSCALE:GREGORIAN
METHOD:PUBLISH
BEGIN:VEVENT
UID:69e52e9541d36
DTSTAMP:20260419T193549Z
DTSTART:20250405T130000Z
DTEND:20250405T150000Z
LOCATION:maison de la Conversation 10 rue Maurice Grimaud\,  75018 18th arrondissement of Paris\,  France
SUMMARY:Rencontre avec nos anciens
DESCRIPTION:Ce samedi 5 avril\,  3 invités se réunissent pour partager le
 ur expérience en tant que personnes issues de la diaspora africaine\,  en 
 France. Il s’agit de 3 personnes issues de différents pays africains et 
 toutes arrivées en France entre les années 70 et les années 80&#8242;. L
 e but de cet[..]\nhttps://maisondelaconversation.org/events/rencontre-avec-
 nos-anciens-2/
URL:https://maisondelaconversation.org/events/rencontre-avec-nos-anciens-2/
END:VEVENT
END:VCALENDAR