BEGIN:VCALENDAR
VERSION:2.0
PRODID:-//eventon.com NONSGML v1.0//EN
CALSCALE:GREGORIAN
METHOD:PUBLISH
BEGIN:VEVENT
UID:69e88a8d42c46
DTSTAMP:20260422T084501Z
DTSTART:20250401T170000Z
DTEND:20250401T203000Z
LOCATION:maison de la Conversation 10 rue Maurice Grimaud\,  75018 18th arrondissement of Paris\,  France
SUMMARY:Débat Couvert - Nos espaces essentiels\,  que disent-ils de nous ?
DESCRIPTION:Nos espaces essentiels\,  que disent-ils de nous ? Débat Couve
 rt offre des dîners-débats à Paris pour enrichir vos soirées\,  rencont
 rer une communauté de penseurs et nourrir votre esprit critique. Billetter
 ie : https://www.eventbrite.fr/e/debat-couvert-nos-espaces-essentiels-que-d
 isent-ils-de-nous-tickets-1259359300569?aff=oddtdtcreator &#8211; 📚Un th
 ème (art et philosophie\,  neurosciences\,  sociologie\,  société\,  his
 toire\,  anthropologie)&#8211; 🗣️Un intervenant&#8211; 🍽️Un déba
 t suivi d’un dîner[..]\nhttps://maisondelaconversation.org/events/debat-
 couvert-nos-espaces-essentiels-que-disent-ils-de-nous/
URL:https://maisondelaconversation.org/events/debat-couvert-nos-espaces-essentiels-que-disent-ils-de-nous/
END:VEVENT
END:VCALENDAR