BEGIN:VCALENDAR
VERSION:2.0
PRODID:-//eventon.com NONSGML v1.0//EN
CALSCALE:GREGORIAN
METHOD:PUBLISH
BEGIN:VEVENT
UID:69e8897d814d7
DTSTAMP:20260422T084029Z
DTSTART:20250307T180000Z
DTEND:20250307T210000Z
LOCATION:maison de la Conversation 10 rue Maurice Grimaud\,  75018 18th arrondissement of Paris\,  France
SUMMARY:Corps et regard : La femme en perspective
DESCRIPTION:L&#8217;exposition &#8220;Corps et regards : la femme en perspe
 ctive&#8221; invite à une exploration de la beauté du corps féminin\,  t
 out en mettant en lumière les perceptions variées que les autres ont. Les
  toiles célèbrent la femme dans toute sa diversité\,  révélant que son
  corps\,  souvent jugé\,  est en réalité une[..]\nhttps://maisondelaconv
 ersation.org/events/corps-et-regard-la-femme-en-perspective/
URL:https://maisondelaconversation.org/events/corps-et-regard-la-femme-en-perspective/
END:VEVENT
END:VCALENDAR