BEGIN:VCALENDAR
VERSION:2.0
PRODID:-//eventon.com NONSGML v1.0//EN
CALSCALE:GREGORIAN
METHOD:PUBLISH
BEGIN:VEVENT
UID:69e5cb5faaf42
DTSTAMP:20260420T064447Z
DTSTART:20250329T100000Z
DTEND:20250329T160000Z
LOCATION:maison de la Conversation 10 rue Maurice Grimaud\,  75018 18th arrondissement of Paris\,  France
SUMMARY:Festival de l'empowerment
DESCRIPTION:✨ Le festival du mois de l’Empowerment : rendez-vous les 29
  &#038; 30 mars à @iciconversation ✨ On te présente le programme du wee
 k-end de l’Empowerment pour que tu puisses organiser TON moment d’empow
 erment ! Entre talks inspirants\,  rencontres enrichissantes et activités 
 transformatrices\,  ce festival c’est l’événement à ne pas[..]\nhttp
 s://maisondelaconversation.org/events/festival-de-lempowerment-2/
URL:https://maisondelaconversation.org/events/festival-de-lempowerment-2/
END:VEVENT
END:VCALENDAR