BEGIN:VCALENDAR
VERSION:2.0
PRODID:-//eventon.com NONSGML v1.0//EN
CALSCALE:GREGORIAN
METHOD:PUBLISH
BEGIN:VEVENT
UID:69eb4c19a9233
DTSTAMP:20260424T105521Z
DTSTART:20250322T150000Z
DTEND:20250322T170000Z
LOCATION:maison de la Conversation 10 rue Maurice Grimaud\,  75018 18th arrondissement of Paris\,  France
SUMMARY:Ateliers de Conversation en Peul et Soninké
DESCRIPTION:Rejoignez-nous pour nos Ateliers de Conversation en Peul &#038;
  Soninké ! Vous souhaitez pratiquer le Soninké et le Peul en dehors du ca
 dre familial ? Découvrir de nouvelles expressions\,  ou simplement passer 
 un bon moment de partage autour de la langue et de la culture ? L’associa
 tion AFRINALCO vous invite[..]\nhttps://maisondelaconversation.org/events/a
 teliers-de-conversation-en-peul-et-soninke-6/
URL:https://maisondelaconversation.org/events/ateliers-de-conversation-en-peul-et-soninke-6/
END:VEVENT
END:VCALENDAR