BEGIN:VCALENDAR
VERSION:2.0
PRODID:-//eventon.com NONSGML v1.0//EN
CALSCALE:GREGORIAN
METHOD:PUBLISH
BEGIN:VEVENT
UID:69eb4c2103b01
DTSTAMP:20260424T105529Z
DTSTART:20241106T130000Z
DTEND:20241106T160000Z
LOCATION:maison de la Conversation 10 rue Maurice Grimaud\,  75018 18th arrondissement of Paris\,  France
SUMMARY:Débat intergénérationnel
DESCRIPTION:🗣️✨ Débat Intergénérationnel ✨🗣️ 📅 Date : M
 ercredi 6 novembre 2024 🕒 Heure : 14h00 &#8211; 17h00 📍 Lieu : MDC\, 
  salle d’écoute 💸 Tarif : Gratuit 🗓️ Récurrence : Chaque 1ᵉʳ
  mercredi du mois\,  de septembre à décembre 2024 (reconduction prévue d
 e janvier à juin 2025) 🌍 Thématique :[..]\nhttps://maisondelaconversat
 ion.org/events/debat-intergenerationnel/
URL:https://maisondelaconversation.org/events/debat-intergenerationnel/
END:VEVENT
END:VCALENDAR