BEGIN:VCALENDAR
VERSION:2.0
PRODID:-//eventon.com NONSGML v1.0//EN
CALSCALE:GREGORIAN
METHOD:PUBLISH
BEGIN:VEVENT
UID:69e73533018ad
DTSTAMP:20260421T082835Z
DTSTART:20241108T170000Z
DTEND:20241108T210000Z
LOCATION:maison de la Conversation 10 rue Maurice Grimaud\,  75018 18th arrondissement of Paris\,  France
SUMMARY:Exposition - Le journal de ma mère (Vernissage)
DESCRIPTION:📸🎶 Exposition : Le journal de ma mère 🎶📸 🗓️ D
 ates : Du 8 novembre 2024 au 29 novembre 2024 🎉 Vernissage : Vendredi 8 
 novembre\,  18h &#8211; 22h 📍 Lieu : MDC galerie 💸 Tarif : Gratuit 
  Horaires d&#8217;accès : Selon les horaires du café L&#8217;exposition 
 Le journal[..]\nhttps://maisondelaconversation.org/events/exposition-le-jou
 rnal-de-ma-mere-vernissage/
URL:https://maisondelaconversation.org/events/exposition-le-journal-de-ma-mere-vernissage/
END:VEVENT
END:VCALENDAR