BEGIN:VCALENDAR
VERSION:2.0
PRODID:-//eventon.com NONSGML v1.0//EN
CALSCALE:GREGORIAN
METHOD:PUBLISH
BEGIN:VEVENT
UID:69e81f84e0070
DTSTAMP:20260422T010820Z
DTSTART:20241008T170000Z
DTEND:20241008T190000Z
LOCATION:maison de la Conversation
SUMMARY:Ici\,  on s'écoute Cercle de parole Nayoki\,  en mixité
DESCRIPTION:Un moment d&#8217;échange et de partage pour croiser nos regar
 ds sur les sujets qui façonnent nos vies et qui nous éprouvent différemm
 ent. Un moment d&#8217;échange et de partage pour croiser nos regards sur 
 les sujets qui façonnent nos vies et qui nous éprouvent différemment (la
  culture\,  l&#8217;éducation\,  le travail\,  les[..]\nhttps://maisondela
 conversation.org/events/ici-on-secoute-cercle-de-parole-nayoki-en-mixite-7/
URL:https://maisondelaconversation.org/events/ici-on-secoute-cercle-de-parole-nayoki-en-mixite-7/
END:VEVENT
END:VCALENDAR