BEGIN:VCALENDAR
VERSION:2.0
PRODID:-//eventon.com NONSGML v1.0//EN
CALSCALE:GREGORIAN
METHOD:PUBLISH
BEGIN:VEVENT
UID:69e9ec7d428bb
DTSTAMP:20260423T095509Z
DTSTART:20240927T180000Z
DTEND:20240927T220000Z
LOCATION:maison de la Conversation 10 rue Maurice Grimaud\,  75018 18th arrondissement of Paris\,  France
SUMMARY:La messe nocturne - Scène ouverte
DESCRIPTION:🎤✨ LA MESSE NOCTURNE : Scène Ouverte ✨🎤 Envie de viv
 re une expérience unique ?Rejoignez-nous chaque moi de 20h à 00h pour not
 re scène ouverte ! Le concept est simple : découvrez de nouveaux talents\
 ,  montez vous-même sur scène et laissez-vous porter par des musiciens pa
 ssionnés. Une ambiance hip-hop envoûtante[..]\nhttps://maisondelaconversa
 tion.org/events/la-messe-nocturne-4/
URL:https://maisondelaconversation.org/events/la-messe-nocturne-4/
END:VEVENT
END:VCALENDAR