BEGIN:VCALENDAR
VERSION:2.0
PRODID:-//eventon.com NONSGML v1.0//EN
CALSCALE:GREGORIAN
METHOD:PUBLISH
BEGIN:VEVENT
UID:69ecfd7fd90ad
DTSTAMP:20260425T174431Z
DTSTART:20240612T160000Z
DTEND:20240612T200000Z
LOCATION:maison de la Conversation
SUMMARY:Semaine de sensibilisation à l’autisme
DESCRIPTION:Une journée pour mettre en lumière l’autisme et les percept
 ions qu’il y a autour\,  surtout chez les femmes. DANS LE CADRE DU MOIS P
 ARISIEN DU HANDICAP\,  L’ASSOCIATION SOCIÉTÉ DE L’AUGMENTISME PRÉSEN
 TE : LA SEMAINE DE SENSIBILISATION À L’AUTISME DU 12 AU 18 JUIN 2024 •
  2 EXPOSITIONS D’ARTISTES AVEC TSA•[..]\nhttps://maisondelaconversation
 .org/events/semaine-de-sensibilisation-a-lautisme/
URL:https://maisondelaconversation.org/events/semaine-de-sensibilisation-a-lautisme/
END:VEVENT
END:VCALENDAR