BEGIN:VCALENDAR
VERSION:2.0
PRODID:-//eventon.com NONSGML v1.0//EN
CALSCALE:GREGORIAN
METHOD:PUBLISH
BEGIN:VEVENT
UID:69eab6b95e1a7
DTSTAMP:20260424T001801Z
DTSTART:20240423T163000Z
DTEND:20240423T183000Z
LOCATION:maison de la Conversation
SUMMARY:Le commun des mortels #2
DESCRIPTION:Si y a bien un truc que Chtam défend c’est qu’on se rejoin
 t tous.tes\,  quelque part\,  et parfois lors d&#8217;un podcast à la MDC.
  “Le commun des mortels&#8221;\,  c&#8217;est un podcast animé par Chtam
  à la maison de la Conversation. Trois invité.e.s venant d&#8217;horizons
  divers se rencontrent et discutent de[..]\nhttps://maisondelaconversation.
 org/events/le-commun-des-mortels-2/
URL:https://maisondelaconversation.org/events/le-commun-des-mortels-2/
END:VEVENT
END:VCALENDAR