BEGIN:VCALENDAR
VERSION:2.0
PRODID:-//eventon.com NONSGML v1.0//EN
CALSCALE:GREGORIAN
METHOD:PUBLISH
BEGIN:VEVENT
UID:69ed88530ba72
DTSTAMP:20260426T033651Z
DTSTART:20240615T170000Z
DTEND:20240615T230000Z
LOCATION:La maison de la Conversation La maison de la Conversation
SUMMARY:⚡️Pokémon Let’s Go! Kiki ball⚡️
DESCRIPTION:Pokémon Let’s Go! Kiki ball⚡️ by European Mother Gabbana
  🐝👑 Bienvenue dans le monde Pokémon\,  des créatures en tout genre 
 et venant de toutes horizons et cohabitants en harmonie avec les humains. S
 eras-tu le meilleur dresseur ou le plus incroyable des Pokémon? ⚡️L’
 aventure commence &#8211; New Performance : je te[..]\nhttps://maisondelaco
 nversation.org/events/%e2%9a%a1%ef%b8%8fpokemon-lets-go-kiki-ball%e2%9a%a1%
 ef%b8%8f/
URL:https://maisondelaconversation.org/events/%e2%9a%a1%ef%b8%8fpokemon-lets-go-kiki-ball%e2%9a%a1%ef%b8%8f/
END:VEVENT
END:VCALENDAR